BEGIN:VCALENDAR
VERSION:2.0
PRODID:-//Capuchin Franciscans | Ireland - ECPv6.15.20//NONSGML v1.0//EN
CALSCALE:GREGORIAN
METHOD:PUBLISH
X-ORIGINAL-URL:https://www.capuchinfranciscans.ie
X-WR-CALDESC:Events for Capuchin Franciscans | Ireland
REFRESH-INTERVAL;VALUE=DURATION:PT1H
X-Robots-Tag:noindex
X-PUBLISHED-TTL:PT1H
BEGIN:VTIMEZONE
TZID:Europe/Dublin
BEGIN:STANDARD
TZOFFSETFROM:+0000
TZOFFSETTO:+0100
TZNAME:IST
DTSTART:20150329T010000
END:STANDARD
BEGIN:DAYLIGHT
TZOFFSETFROM:+0100
TZOFFSETTO:+0000
TZNAME:GMT
DTSTART:20151025T010000
END:DAYLIGHT
BEGIN:STANDARD
TZOFFSETFROM:+0000
TZOFFSETTO:+0100
TZNAME:IST
DTSTART:20160327T010000
END:STANDARD
BEGIN:DAYLIGHT
TZOFFSETFROM:+0100
TZOFFSETTO:+0000
TZNAME:GMT
DTSTART:20161030T010000
END:DAYLIGHT
BEGIN:STANDARD
TZOFFSETFROM:+0000
TZOFFSETTO:+0100
TZNAME:IST
DTSTART:20170326T010000
END:STANDARD
BEGIN:DAYLIGHT
TZOFFSETFROM:+0100
TZOFFSETTO:+0000
TZNAME:GMT
DTSTART:20171029T010000
END:DAYLIGHT
BEGIN:STANDARD
TZOFFSETFROM:+0000
TZOFFSETTO:+0100
TZNAME:IST
DTSTART:20180325T010000
END:STANDARD
BEGIN:DAYLIGHT
TZOFFSETFROM:+0100
TZOFFSETTO:+0000
TZNAME:GMT
DTSTART:20181028T010000
END:DAYLIGHT
END:VTIMEZONE
BEGIN:VEVENT
DTSTART;TZID=Europe/Dublin:20171202T100000
DTEND;TZID=Europe/Dublin:20171203T150000
DTSTAMP:20260422T171013
CREATED:20171027T095551Z
LAST-MODIFIED:20171115T171702Z
UID:2908-1512208800-1512313200@www.capuchinfranciscans.ie
SUMMARY:Capuchin Franciscan Vocation Retreat
DESCRIPTION:News of our upcoming Capuchin Franciscan Vocation Retreat in Capuchin Friary Kilkenny on the 2nd and 3rd of December. \nThis vocation retreat is open to men aged between 20 and 40 who are considering a vocation to religious life and would like to know more about following St Francis of Assisi as a Capuchin Franciscan Friar. \nFor more information or to express an interest\, email capuchinvocation@gmail.com
URL:https://www.capuchinfranciscans.ie/event/capuchin-franciscan-vocation-retreat/
LOCATION:Capuchin Friary Kilkenny\, Friary Street\, Kilkenny
CATEGORIES:Kilkenny
ATTACH;FMTTYPE=image/jpeg:https://www.capuchinfranciscans.ie/wp-content/uploads/2017/10/IMG-20170924-WA0000.jpg
GEO:52.48289;-7.2138
X-APPLE-STRUCTURED-LOCATION;VALUE=URI;X-ADDRESS=Capuchin Friary Kilkenny Friary Street Kilkenny;X-APPLE-RADIUS=500;X-TITLE=Friary Street:geo:-7.2138,52.48289
END:VEVENT
BEGIN:VEVENT
DTSTART;VALUE=DATE:20170413
DTEND;VALUE=DATE:20170417
DTSTAMP:20260422T171013
CREATED:20170409T161547Z
LAST-MODIFIED:20170409T161547Z
UID:2762-1492041600-1492387199@www.capuchinfranciscans.ie
SUMMARY:Kilkenny Easter Ceremonies
DESCRIPTION:The Friars in Kilkenny invite you to join them for the Holy Week Ceremonies. \nHoly Thursday: \n7pm: Mass of the Lord’s Supper. \nGood Friday: \n12 Noon: Stations of the Cross \n5pm: Celebration of the Lord’s Passion \n7:30pm: The Good Friday walk leaves St John’s Church at 7:30pm arriving at the Capuchin Friary at 8:15pm for a prayer service. \nHoly Saturday: \n9pm: Easter Vigil Mass \nConfessions: \nHoly Thursday\, Good Friday and Holy Saturday from 9:30am to 5:30pm.
URL:https://www.capuchinfranciscans.ie/event/kilkenny-easter-ceremonies/
LOCATION:Capuchin Friary Kilkenny\, Friary Street\, Kilkenny
CATEGORIES:Kilkenny
ATTACH;FMTTYPE=image/jpeg:https://www.capuchinfranciscans.ie/wp-content/uploads/2017/04/Easter8.jpg
GEO:52.48289;-7.2138
X-APPLE-STRUCTURED-LOCATION;VALUE=URI;X-ADDRESS=Capuchin Friary Kilkenny Friary Street Kilkenny;X-APPLE-RADIUS=500;X-TITLE=Friary Street:geo:-7.2138,52.48289
END:VEVENT
BEGIN:VEVENT
DTSTART;TZID=Europe/Dublin:20161231T233000
DTEND;TZID=Europe/Dublin:20170201T003000
DTSTAMP:20260422T171013
CREATED:20161105T132113Z
LAST-MODIFIED:20161105T132113Z
UID:2386-1483227000-1485909000@www.capuchinfranciscans.ie
SUMMARY:New Year's Eve Mass
DESCRIPTION:  \nLooking for an alternative to the usual New Year’s Eve celebrations? Well why not join us at the Capuchin Friary in Kilkenny for the Celebration of Eucharist in thanksgiving for the year gone by\, in remembrance for those no longer with us since this time last year and in preparation for 2017. All are most welcome to ring in the New Year at the Friary in Kilkenny! \n 
URL:https://www.capuchinfranciscans.ie/event/new-years-eve-mass/
LOCATION:Capuchin Friary Kilkenny\, Friary Street\, Kilkenny
CATEGORIES:Kilkenny,Capuchin Friary Kilkenny
ATTACH;FMTTYPE=image/jpeg:https://www.capuchinfranciscans.ie/wp-content/uploads/2016/11/NewYear.jpg
GEO:52.48289;-7.2138
X-APPLE-STRUCTURED-LOCATION;VALUE=URI;X-ADDRESS=Capuchin Friary Kilkenny Friary Street Kilkenny;X-APPLE-RADIUS=500;X-TITLE=Friary Street:geo:-7.2138,52.48289
END:VEVENT
BEGIN:VEVENT
DTSTART;TZID=Europe/Dublin:20161223T190000
DTEND;TZID=Europe/Dublin:20161223T220000
DTSTAMP:20260422T171013
CREATED:20161105T132718Z
LAST-MODIFIED:20161129T195054Z
UID:2394-1482519600-1482530400@www.capuchinfranciscans.ie
SUMMARY:'A Night at Greccio' Capuchin Friary Kilkenny
DESCRIPTION:  \nJoin the Friars in Kilkenny for ‘A Night at Greccio’. Greccio is the place where St Francis formed the very first Christmas Crib. The Friars will lead you though a prayerful reflection on the Christmas Crib.
URL:https://www.capuchinfranciscans.ie/event/night-fever-comes-to-the-capuchin-friary-kilkenny/
LOCATION:Capuchin Friary Kilkenny\, Friary Street\, Kilkenny
CATEGORIES:Kilkenny,Capuchin Friary Kilkenny
GEO:52.48289;-7.2138
X-APPLE-STRUCTURED-LOCATION;VALUE=URI;X-ADDRESS=Capuchin Friary Kilkenny Friary Street Kilkenny;X-APPLE-RADIUS=500;X-TITLE=Friary Street:geo:-7.2138,52.48289
END:VEVENT
END:VCALENDAR